BEGIN:VCALENDAR
VERSION:2.0
PRODID:-//Post 43 Baseball - ECPv6.15.20//NONSGML v1.0//EN
CALSCALE:GREGORIAN
METHOD:PUBLISH
X-WR-CALNAME:Post 43 Baseball
X-ORIGINAL-URL:https://post43baseball.com
X-WR-CALDESC:Events for Post 43 Baseball
REFRESH-INTERVAL;VALUE=DURATION:PT1H
X-Robots-Tag:noindex
X-PUBLISHED-TTL:PT1H
BEGIN:VTIMEZONE
TZID:America/Denver
BEGIN:DAYLIGHT
TZOFFSETFROM:-0700
TZOFFSETTO:-0600
TZNAME:MDT
DTSTART:20250309T090000
END:DAYLIGHT
BEGIN:STANDARD
TZOFFSETFROM:-0600
TZOFFSETTO:-0700
TZNAME:MST
DTSTART:20251102T080000
END:STANDARD
BEGIN:DAYLIGHT
TZOFFSETFROM:-0700
TZOFFSETTO:-0600
TZNAME:MDT
DTSTART:20260308T090000
END:DAYLIGHT
BEGIN:STANDARD
TZOFFSETFROM:-0600
TZOFFSETTO:-0700
TZNAME:MST
DTSTART:20261101T080000
END:STANDARD
BEGIN:DAYLIGHT
TZOFFSETFROM:-0700
TZOFFSETTO:-0600
TZNAME:MDT
DTSTART:20270314T090000
END:DAYLIGHT
BEGIN:STANDARD
TZOFFSETFROM:-0600
TZOFFSETTO:-0700
TZNAME:MST
DTSTART:20271107T080000
END:STANDARD
END:VTIMEZONE
BEGIN:VEVENT
DTSTART;TZID=America/Denver:20260602T150000
DTEND;TZID=America/Denver:20260602T200000
DTSTAMP:20260424T075214
CREATED:20260117T022926Z
LAST-MODIFIED:20260415T212459Z
UID:2262-1780412400-1780430400@post43baseball.com
SUMMARY:Varsity at home vs. Rock Springs
DESCRIPTION:Varsity double header vs. Rock Springs.
URL:https://post43baseball.com/event/varsityrocksprings/
LOCATION:Jackson Giants
CATEGORIES:Home Game,Varsity
ATTACH;FMTTYPE=image/png:https://post43baseball.com/wp-content/uploads/2026/01/Varsity-Home-Game.png
END:VEVENT
BEGIN:VEVENT
DTSTART;TZID=America/Denver:20260605T150000
DTEND;TZID=America/Denver:20260605T200000
DTSTAMP:20260424T075214
CREATED:20260117T023111Z
LAST-MODIFIED:20260121T214228Z
UID:2264-1780671600-1780689600@post43baseball.com
SUMMARY:Varsity at home vs. Casper Drillers
DESCRIPTION:Varsity double header vs. Casper Drillers.
URL:https://post43baseball.com/event/varsitycasperdrillers/
LOCATION:Jackson Giants
CATEGORIES:Home Game,Varsity
ATTACH;FMTTYPE=image/png:https://post43baseball.com/wp-content/uploads/2026/01/Varsity-Home-Game.png
END:VEVENT
BEGIN:VEVENT
DTSTART;TZID=America/Denver:20260607T130000
DTEND;TZID=America/Denver:20260607T170000
DTSTAMP:20260424T075214
CREATED:20260130T024357Z
LAST-MODIFIED:20260130T024433Z
UID:2324-1780837200-1780851600@post43baseball.com
SUMMARY:Prep Hosts Cody Cubs
DESCRIPTION:Prep hosts the Cody Cubs in a double header at home
URL:https://post43baseball.com/event/prep-hosts-cody-cubs/
LOCATION:Jackson Giants
CATEGORIES:Home Game,Prep C
ATTACH;FMTTYPE=image/png:https://post43baseball.com/wp-content/uploads/2026/01/Prep-Home-Game.png
END:VEVENT
BEGIN:VEVENT
DTSTART;TZID=America/Denver:20260609T170000
DTEND;TZID=America/Denver:20260609T220000
DTSTAMP:20260424T075214
CREATED:20260130T024626Z
LAST-MODIFIED:20260130T024626Z
UID:2326-1781024400-1781042400@post43baseball.com
SUMMARY:Varsity Hosts Gillette Rough Riders
DESCRIPTION:Varsity hosts Gillette Rough Riders in a double header at home.
URL:https://post43baseball.com/event/varsity-hosts-gillette-rough-riders/
LOCATION:Jackson Giants
CATEGORIES:Home Game,Varsity
ATTACH;FMTTYPE=image/png:https://post43baseball.com/wp-content/uploads/2026/01/Varsity-Home-Game.png
END:VEVENT
BEGIN:VEVENT
DTSTART;VALUE=DATE:20260612
DTEND;VALUE=DATE:20260615
DTSTAMP:20260424T075214
CREATED:20260130T024909Z
LAST-MODIFIED:20260130T030226Z
UID:2329-1781222400-1781481599@post43baseball.com
SUMMARY:Prep at Rock Springs Tournament
DESCRIPTION:Prep travels to Rock Springs for a weekend tournament
URL:https://post43baseball.com/event/prep-rockspringstournament/
LOCATION:Paul J. Wataha Recreational Complex – Rock Springs\, 2059 Clubhouse D\, Rock Springs\, WY\, 82901\, United States
CATEGORIES:Away Game,Prep C
ATTACH;FMTTYPE=image/png:https://post43baseball.com/wp-content/uploads/2026/01/Prep-Away-Game.png
END:VEVENT
BEGIN:VEVENT
DTSTART;TZID=America/Denver:20260613T040000
DTEND;TZID=America/Denver:20260613T210000
DTSTAMP:20260424T075214
CREATED:20260415T213124Z
LAST-MODIFIED:20260415T213124Z
UID:2517-1781323200-1781384400@post43baseball.com
SUMMARY:Varsity at Idaho Falls Tigers
DESCRIPTION:Varsity at Idaho Falls Tigers double header
URL:https://post43baseball.com/event/varsity-at-idaho-falls-tigers/
CATEGORIES:Away Game,Varsity
ATTACH;FMTTYPE=image/png:https://post43baseball.com/wp-content/uploads/2026/01/Varsity-Away-Game.png
END:VEVENT
BEGIN:VEVENT
DTSTART;TZID=America/Denver:20260615T130000
DTEND;TZID=America/Denver:20260615T153000
DTSTAMP:20260424T075214
CREATED:20260415T213347Z
LAST-MODIFIED:20260415T213654Z
UID:2520-1781528400-1781537400@post43baseball.com
SUMMARY:Varsity vs Bridger Valley Baseball
DESCRIPTION:Varsity at home vs Bridger Valley Baseball 9 inning game.
URL:https://post43baseball.com/event/varsity-vs-bridger-valley-baseball/
LOCATION:Jackson Giants
CATEGORIES:Home Game,Varsity
ATTACH;FMTTYPE=image/png:https://post43baseball.com/wp-content/uploads/2026/01/Varsity-Home-Game.png
END:VEVENT
BEGIN:VEVENT
DTSTART;TZID=America/Denver:20260617T150000
DTEND;TZID=America/Denver:20260617T200000
DTSTAMP:20260424T075214
CREATED:20260130T025120Z
LAST-MODIFIED:20260130T025120Z
UID:2331-1781708400-1781726400@post43baseball.com
SUMMARY:Prep hosts Evanston Outlaws
DESCRIPTION:Prep hosts Evanston Outlaws for a double header
URL:https://post43baseball.com/event/prep-hosts-evanston-outlaws/
LOCATION:Jackson Giants
CATEGORIES:Home Game,Prep C
ATTACH;FMTTYPE=image/png:https://post43baseball.com/wp-content/uploads/2026/01/Prep-Home-Game.png
END:VEVENT
BEGIN:VEVENT
DTSTART;TZID=America/Denver:20260619T150000
DTEND;TZID=America/Denver:20260619T200000
DTSTAMP:20260424T075214
CREATED:20260130T025317Z
LAST-MODIFIED:20260130T025317Z
UID:2333-1781881200-1781899200@post43baseball.com
SUMMARY:Varsity hosts Sheridan Troopers
DESCRIPTION:Varsity hosts the Sheridan Troopers in a home double header
URL:https://post43baseball.com/event/varsity-hosts-sheridan-troopers/
LOCATION:Jackson Giants
CATEGORIES:Home Game,Varsity
ATTACH;FMTTYPE=image/png:https://post43baseball.com/wp-content/uploads/2026/01/Varsity-Home-Game.png
END:VEVENT
BEGIN:VEVENT
DTSTART;TZID=America/Denver:20260620T120000
DTEND;TZID=America/Denver:20260620T170000
DTSTAMP:20260424T075214
CREATED:20260130T025634Z
LAST-MODIFIED:20260130T025634Z
UID:2337-1781956800-1781974800@post43baseball.com
SUMMARY:Varsity hosts Sheridan Jets
DESCRIPTION:Varsity hosts the Sheridan Jets for a double header
URL:https://post43baseball.com/event/varsity-hosts-sheridan-jets/
LOCATION:Jackson Giants
CATEGORIES:Home Game,Varsity
ATTACH;FMTTYPE=image/png:https://post43baseball.com/wp-content/uploads/2026/01/Varsity-Home-Game.png
END:VEVENT
BEGIN:VEVENT
DTSTART;VALUE=DATE:20260625
DTEND;VALUE=DATE:20260628
DTSTAMP:20260424T075214
CREATED:20260130T025938Z
LAST-MODIFIED:20260130T025938Z
UID:2341-1782345600-1782604799@post43baseball.com
SUMMARY:Varsity - Western Invitational Tournament
DESCRIPTION:Varsity travels to Utah for a weekend tournament
URL:https://post43baseball.com/event/varsity-western-invitational-tournament/
CATEGORIES:Away Game,Varsity
ATTACH;FMTTYPE=image/png:https://post43baseball.com/wp-content/uploads/2026/01/Varsity-Away-Game.png
END:VEVENT
BEGIN:VEVENT
DTSTART;TZID=America/Denver:20260627T130000
DTEND;TZID=America/Denver:20260627T180000
DTSTAMP:20260424T075214
CREATED:20260130T025829Z
LAST-MODIFIED:20260420T145703Z
UID:2339-1782565200-1782583200@post43baseball.com
SUMMARY:Prep hosts Rock Springs Stallions
DESCRIPTION:Prep hosts Rock Springs for a double header
URL:https://post43baseball.com/event/prep-hosts-rock-springs-2/
LOCATION:Jackson Giants
CATEGORIES:Home Game,Prep C
ATTACH;FMTTYPE=image/png:https://post43baseball.com/wp-content/uploads/2026/01/Prep-Home-Game.png
END:VEVENT
END:VCALENDAR