BEGIN:VCALENDAR
VERSION:2.0
PRODID:-//Post 43 Baseball - ECPv6.15.20//NONSGML v1.0//EN
CALSCALE:GREGORIAN
METHOD:PUBLISH
X-ORIGINAL-URL:https://post43baseball.com
X-WR-CALDESC:Events for Post 43 Baseball
REFRESH-INTERVAL;VALUE=DURATION:PT1H
X-Robots-Tag:noindex
X-PUBLISHED-TTL:PT1H
BEGIN:VTIMEZONE
TZID:America/Denver
BEGIN:DAYLIGHT
TZOFFSETFROM:-0700
TZOFFSETTO:-0600
TZNAME:MDT
DTSTART:20240310T090000
END:DAYLIGHT
BEGIN:STANDARD
TZOFFSETFROM:-0600
TZOFFSETTO:-0700
TZNAME:MST
DTSTART:20241103T080000
END:STANDARD
BEGIN:DAYLIGHT
TZOFFSETFROM:-0700
TZOFFSETTO:-0600
TZNAME:MDT
DTSTART:20250309T090000
END:DAYLIGHT
BEGIN:STANDARD
TZOFFSETFROM:-0600
TZOFFSETTO:-0700
TZNAME:MST
DTSTART:20251102T080000
END:STANDARD
BEGIN:DAYLIGHT
TZOFFSETFROM:-0700
TZOFFSETTO:-0600
TZNAME:MDT
DTSTART:20260308T090000
END:DAYLIGHT
BEGIN:STANDARD
TZOFFSETFROM:-0600
TZOFFSETTO:-0700
TZNAME:MST
DTSTART:20261101T080000
END:STANDARD
END:VTIMEZONE
BEGIN:VEVENT
DTSTART;VALUE=DATE:20250603
DTEND;VALUE=DATE:20250604
DTSTAMP:20260420T145925
CREATED:20250526T144151Z
LAST-MODIFIED:20250529T193453Z
UID:1920-1748908800-1748995199@post43baseball.com
SUMMARY:Home vs Hillcrest (Prep)
DESCRIPTION:Doubleheader starting at 5pm.
URL:https://post43baseball.com/event/home-vs-hillcrest-prep/
LOCATION:Jackson Giants
CATEGORIES:Home Game,Prep C
ATTACH;FMTTYPE=image/jpeg:https://post43baseball.com/wp-content/uploads/2025/05/June-3-Hillcrest.jpg
END:VEVENT
BEGIN:VEVENT
DTSTART;TZID=America/Denver:20250531T160000
DTEND;TZID=America/Denver:20250531T213000
DTSTAMP:20260420T145925
CREATED:20250409T035001Z
LAST-MODIFIED:20250531T035017Z
UID:1365-1748707200-1748727000@post43baseball.com
SUMMARY:Green River (Prep)
DESCRIPTION:Doubleheader starting at 4pm.
URL:https://post43baseball.com/event/green-river-prep/
LOCATION:Green River – Stratton Myers Park\, 1795 Bridger Dr\, Green River\, 82935\, United States
CATEGORIES:Away Game,Prep C
END:VEVENT
BEGIN:VEVENT
DTSTART;VALUE=DATE:20250524
DTEND;VALUE=DATE:20250525
DTSTAMP:20260420T145925
CREATED:20250310T001606Z
LAST-MODIFIED:20250523T214409Z
UID:1100-1748044800-1748131199@post43baseball.com
SUMMARY:Home vs Cody (Prep)
DESCRIPTION:Double header starting at 1pm.
URL:https://post43baseball.com/event/home-vs-cody-prep/
CATEGORIES:Home Game,Prep C
ATTACH;FMTTYPE=image/jpeg:https://post43baseball.com/wp-content/uploads/2025/03/Prep-Cody.jpg
END:VEVENT
BEGIN:VEVENT
DTSTART;TZID=America/Denver:20250518T110000
DTEND;TZID=America/Denver:20250518T150000
DTSTAMP:20260420T145925
CREATED:20250309T235724Z
LAST-MODIFIED:20250321T190133Z
UID:1089-1747566000-1747580400@post43baseball.com
SUMMARY:Home vs Green River (Prep)
DESCRIPTION:Double header starting at 11am.
URL:https://post43baseball.com/event/home-vs-green-river/
CATEGORIES:Home Game,Prep C
ATTACH;FMTTYPE=image/jpeg:https://post43baseball.com/wp-content/uploads/2025/03/Prep-Home-Opener-2.jpg
END:VEVENT
END:VCALENDAR