BEGIN:VCALENDAR
VERSION:2.0
PRODID:-//Post 43 Baseball - ECPv6.15.20//NONSGML v1.0//EN
CALSCALE:GREGORIAN
METHOD:PUBLISH
X-WR-CALNAME:Post 43 Baseball
X-ORIGINAL-URL:https://post43baseball.com
X-WR-CALDESC:Events for Post 43 Baseball
REFRESH-INTERVAL;VALUE=DURATION:PT1H
X-Robots-Tag:noindex
X-PUBLISHED-TTL:PT1H
BEGIN:VTIMEZONE
TZID:America/Denver
BEGIN:DAYLIGHT
TZOFFSETFROM:-0700
TZOFFSETTO:-0600
TZNAME:MDT
DTSTART:20250309T090000
END:DAYLIGHT
BEGIN:STANDARD
TZOFFSETFROM:-0600
TZOFFSETTO:-0700
TZNAME:MST
DTSTART:20251102T080000
END:STANDARD
BEGIN:DAYLIGHT
TZOFFSETFROM:-0700
TZOFFSETTO:-0600
TZNAME:MDT
DTSTART:20260308T090000
END:DAYLIGHT
BEGIN:STANDARD
TZOFFSETFROM:-0600
TZOFFSETTO:-0700
TZNAME:MST
DTSTART:20261101T080000
END:STANDARD
BEGIN:DAYLIGHT
TZOFFSETFROM:-0700
TZOFFSETTO:-0600
TZNAME:MDT
DTSTART:20270314T090000
END:DAYLIGHT
BEGIN:STANDARD
TZOFFSETFROM:-0600
TZOFFSETTO:-0700
TZNAME:MST
DTSTART:20271107T080000
END:STANDARD
END:VTIMEZONE
BEGIN:VEVENT
DTSTART;TZID=America/Denver:20260502T120000
DTEND;TZID=America/Denver:20260502T120000
DTSTAMP:20260424T024649
CREATED:20260117T020637Z
LAST-MODIFIED:20260121T213612Z
UID:2239-1777723200-1777723200@post43baseball.com
SUMMARY:Prep at Cody Cubs
DESCRIPTION:Prep 9 inning game vs Cody Cubs. Field TBD.
URL:https://post43baseball.com/event/prep-at-cody-cubs/
CATEGORIES:Away Game,Prep C
ATTACH;FMTTYPE=image/png:https://post43baseball.com/wp-content/uploads/2026/01/Prep-Away-Game.png
END:VEVENT
BEGIN:VEVENT
DTSTART;TZID=America/Denver:20260502T120000
DTEND;TZID=America/Denver:20260502T170000
DTSTAMP:20260424T024649
CREATED:20260117T020503Z
LAST-MODIFIED:20260121T213708Z
UID:2237-1777723200-1777741200@post43baseball.com
SUMMARY:Varsity at Cody Cubs
DESCRIPTION:Varsity away double header vs. the Cody Cubs. Field TBD.
URL:https://post43baseball.com/event/varsity-at-cody-cubs/
CATEGORIES:Away Game,Varsity
ATTACH;FMTTYPE=image/png:https://post43baseball.com/wp-content/uploads/2026/01/Varsity-Away-Game.png
END:VEVENT
BEGIN:VEVENT
DTSTART;TZID=America/Denver:20260503T100000
DTEND;TZID=America/Denver:20260503T130000
DTSTAMP:20260424T024649
CREATED:20260117T021057Z
LAST-MODIFIED:20260121T213742Z
UID:2245-1777802400-1777813200@post43baseball.com
SUMMARY:Varsity at Cody Cubs
DESCRIPTION:Varsity away 9 inning game vs. the Cody Cubs. Field TBD.
URL:https://post43baseball.com/event/varsity-at-cody-cubs-2/
CATEGORIES:Away Game,Varsity
ATTACH;FMTTYPE=image/png:https://post43baseball.com/wp-content/uploads/2026/01/Varsity-Away-Game.png
END:VEVENT
BEGIN:VEVENT
DTSTART;TZID=America/Denver:20260503T100000
DTEND;TZID=America/Denver:20260503T130000
DTSTAMP:20260424T024649
CREATED:20260117T021251Z
LAST-MODIFIED:20260121T213858Z
UID:2248-1777802400-1777813200@post43baseball.com
SUMMARY:Prep at Cody Cubs
DESCRIPTION:Prep away 9 inning game vs. the Cody Cubs. Field TBD.
URL:https://post43baseball.com/event/prep-at-cody-cubs-2/
CATEGORIES:Away Game,Prep C
ATTACH;FMTTYPE=image/png:https://post43baseball.com/wp-content/uploads/2026/01/Prep-Away-Game.png
END:VEVENT
BEGIN:VEVENT
DTSTART;TZID=America/Denver:20260507T150000
DTEND;TZID=America/Denver:20260507T200000
DTSTAMP:20260424T024649
CREATED:20260117T021541Z
LAST-MODIFIED:20260121T213922Z
UID:2250-1778166000-1778184000@post43baseball.com
SUMMARY:Prep at Rawlins
DESCRIPTION:Prep double header away vs. Rawlins.
URL:https://post43baseball.com/event/prep-at-rawlins/
CATEGORIES:Away Game,Prep C
ATTACH;FMTTYPE=image/png:https://post43baseball.com/wp-content/uploads/2026/01/Prep-Away-Game.png
END:VEVENT
BEGIN:VEVENT
DTSTART;TZID=America/Denver:20260516T130000
DTEND;TZID=America/Denver:20260516T180000
DTSTAMP:20260424T024649
CREATED:20260117T021907Z
LAST-MODIFIED:20260121T213953Z
UID:2252-1778936400-1778954400@post43baseball.com
SUMMARY:Varsity at Rock Springs
DESCRIPTION:Varsity away double header vs Rock Springs.
URL:https://post43baseball.com/event/varsity-at-rock-springs/
LOCATION:Paul J. Wataha Recreational Complex – Rock Springs\, 2059 Clubhouse D\, Rock Springs\, WY\, 82901\, United States
CATEGORIES:Away Game,Varsity
ATTACH;FMTTYPE=image/png:https://post43baseball.com/wp-content/uploads/2026/01/Varsity-Away-Game.png
END:VEVENT
BEGIN:VEVENT
DTSTART;VALUE=DATE:20260522
DTEND;VALUE=DATE:20260525
DTSTAMP:20260424T024649
CREATED:20260423T170947Z
LAST-MODIFIED:20260423T170947Z
UID:2575-1779408000-1779667199@post43baseball.com
SUMMARY:Varsity - Riverton Tournament
DESCRIPTION:Varsity travels to Riverton for a tournament\, May 22-24
URL:https://post43baseball.com/event/varsity-riverton-tournament/
CATEGORIES:Away Game,Varsity
ATTACH;FMTTYPE=image/png:https://post43baseball.com/wp-content/uploads/2026/01/Varsity-Away-Game.png
END:VEVENT
BEGIN:VEVENT
DTSTART;TZID=America/Denver:20260523T130000
DTEND;TZID=America/Denver:20260523T180000
DTSTAMP:20260424T024649
CREATED:20260117T022355Z
LAST-MODIFIED:20260121T214044Z
UID:2256-1779541200-1779559200@post43baseball.com
SUMMARY:Prep at Rock Springs
DESCRIPTION:Prep away double header at Rock Springs.
URL:https://post43baseball.com/event/prep-at-rocksprings/
LOCATION:Paul J. Wataha Recreational Complex – Rock Springs\, 2059 Clubhouse D\, Rock Springs\, WY\, 82901\, United States
CATEGORIES:Away Game,Prep C
ATTACH;FMTTYPE=image/png:https://post43baseball.com/wp-content/uploads/2026/01/Prep-Away-Game.png
END:VEVENT
BEGIN:VEVENT
DTSTART;TZID=America/Denver:20260531T130000
DTEND;TZID=America/Denver:20260531T180000
DTSTAMP:20260424T024649
CREATED:20260117T022729Z
LAST-MODIFIED:20260121T214141Z
UID:2260-1780232400-1780250400@post43baseball.com
SUMMARY:Prep at Green River
DESCRIPTION:Prep away double header at Green River.
URL:https://post43baseball.com/event/prep-at-green-river2/
LOCATION:Green River – Stratton Myers Park\, 1795 Bridger Dr\, Green River\, 82935\, United States
CATEGORIES:Away Game,Prep C
ATTACH;FMTTYPE=image/png:https://post43baseball.com/wp-content/uploads/2026/01/Prep-Away-Game.png
END:VEVENT
BEGIN:VEVENT
DTSTART;VALUE=DATE:20260612
DTEND;VALUE=DATE:20260615
DTSTAMP:20260424T024649
CREATED:20260130T024909Z
LAST-MODIFIED:20260130T030226Z
UID:2329-1781222400-1781481599@post43baseball.com
SUMMARY:Prep at Rock Springs Tournament
DESCRIPTION:Prep travels to Rock Springs for a weekend tournament
URL:https://post43baseball.com/event/prep-rockspringstournament/
LOCATION:Paul J. Wataha Recreational Complex – Rock Springs\, 2059 Clubhouse D\, Rock Springs\, WY\, 82901\, United States
CATEGORIES:Away Game,Prep C
ATTACH;FMTTYPE=image/png:https://post43baseball.com/wp-content/uploads/2026/01/Prep-Away-Game.png
END:VEVENT
BEGIN:VEVENT
DTSTART;TZID=America/Denver:20260613T040000
DTEND;TZID=America/Denver:20260613T210000
DTSTAMP:20260424T024649
CREATED:20260415T213124Z
LAST-MODIFIED:20260415T213124Z
UID:2517-1781323200-1781384400@post43baseball.com
SUMMARY:Varsity at Idaho Falls Tigers
DESCRIPTION:Varsity at Idaho Falls Tigers double header
URL:https://post43baseball.com/event/varsity-at-idaho-falls-tigers/
CATEGORIES:Away Game,Varsity
ATTACH;FMTTYPE=image/png:https://post43baseball.com/wp-content/uploads/2026/01/Varsity-Away-Game.png
END:VEVENT
BEGIN:VEVENT
DTSTART;VALUE=DATE:20260625
DTEND;VALUE=DATE:20260628
DTSTAMP:20260424T024649
CREATED:20260130T025938Z
LAST-MODIFIED:20260130T025938Z
UID:2341-1782345600-1782604799@post43baseball.com
SUMMARY:Varsity - Western Invitational Tournament
DESCRIPTION:Varsity travels to Utah for a weekend tournament
URL:https://post43baseball.com/event/varsity-western-invitational-tournament/
CATEGORIES:Away Game,Varsity
ATTACH;FMTTYPE=image/png:https://post43baseball.com/wp-content/uploads/2026/01/Varsity-Away-Game.png
END:VEVENT
BEGIN:VEVENT
DTSTART;TZID=America/Denver:20260702T150000
DTEND;TZID=America/Denver:20260702T200000
DTSTAMP:20260424T024649
CREATED:20260130T030425Z
LAST-MODIFIED:20260130T030425Z
UID:2347-1783004400-1783022400@post43baseball.com
SUMMARY:Varsity at Casper Catters
DESCRIPTION:Varsity travels to Casper for a double header against the Catters
URL:https://post43baseball.com/event/varsity-at-casper-catters/
CATEGORIES:Away Game,Varsity
ATTACH;FMTTYPE=image/png:https://post43baseball.com/wp-content/uploads/2026/01/Varsity-Away-Game.png
END:VEVENT
BEGIN:VEVENT
DTSTART;TZID=America/Denver:20260705T130000
DTEND;TZID=America/Denver:20260705T180000
DTSTAMP:20260424T024649
CREATED:20260130T030600Z
LAST-MODIFIED:20260130T030600Z
UID:2349-1783256400-1783274400@post43baseball.com
SUMMARY:Varsity at Cody Cubs
DESCRIPTION:Varsity travels to Cody for a double header against the Cubs.
URL:https://post43baseball.com/event/varsity-at-cody-cubs-3/
CATEGORIES:Away Game,Varsity
ATTACH;FMTTYPE=image/png:https://post43baseball.com/wp-content/uploads/2026/01/Varsity-Away-Game.png
END:VEVENT
BEGIN:VEVENT
DTSTART;TZID=America/Denver:20260706T150000
DTEND;TZID=America/Denver:20260706T200000
DTSTAMP:20260424T024649
CREATED:20260130T030731Z
LAST-MODIFIED:20260130T030731Z
UID:2351-1783350000-1783368000@post43baseball.com
SUMMARY:Prep at Evanston Outlaws
DESCRIPTION:Prep travels to Evanston for a doubleheader vs the Outlaws
URL:https://post43baseball.com/event/prep-at-evanston-outlaws/
CATEGORIES:Away Game,Prep C
ATTACH;FMTTYPE=image/png:https://post43baseball.com/wp-content/uploads/2026/01/Prep-Away-Game.png
END:VEVENT
BEGIN:VEVENT
DTSTART;TZID=America/Denver:20260708T170000
DTEND;TZID=America/Denver:20260708T220000
DTSTAMP:20260424T024649
CREATED:20260130T030855Z
LAST-MODIFIED:20260130T030855Z
UID:2353-1783530000-1783548000@post43baseball.com
SUMMARY:Varsity at Lander Legends
DESCRIPTION:Varsity travels to Lander for a doubleheader vs the Legends
URL:https://post43baseball.com/event/varsity-at-lander-legends/
CATEGORIES:Away Game,Varsity
ATTACH;FMTTYPE=image/png:https://post43baseball.com/wp-content/uploads/2026/01/Varsity-Away-Game.png
END:VEVENT
BEGIN:VEVENT
DTSTART;VALUE=DATE:20260716
DTEND;VALUE=DATE:20260720
DTSTAMP:20260424T024649
CREATED:20260130T031015Z
LAST-MODIFIED:20260130T031015Z
UID:2355-1784160000-1784505599@post43baseball.com
SUMMARY:Varsity - Boise Tournament
DESCRIPTION:Varsity travels to Boise for a weekend tournament
URL:https://post43baseball.com/event/varsity-boise-tournament/
CATEGORIES:Away Game,Varsity
ATTACH;FMTTYPE=image/png:https://post43baseball.com/wp-content/uploads/2026/01/Varsity-Away-Game.png
END:VEVENT
BEGIN:VEVENT
DTSTART;VALUE=DATE:20260717
DTEND;VALUE=DATE:20260721
DTSTAMP:20260424T024649
CREATED:20260130T031149Z
LAST-MODIFIED:20260130T031149Z
UID:2357-1784246400-1784591999@post43baseball.com
SUMMARY:Prep State Tournament - Laramie
DESCRIPTION:Prep State Tournament in Laramie
URL:https://post43baseball.com/event/prep-state-tournament-laramie/
CATEGORIES:Away Game,Prep C
ATTACH;FMTTYPE=image/png:https://post43baseball.com/wp-content/uploads/2026/01/Prep-Away-Game.png
END:VEVENT
BEGIN:VEVENT
DTSTART;VALUE=DATE:20260724
DTEND;VALUE=DATE:20260729
DTSTAMP:20260424T024649
CREATED:20260130T031308Z
LAST-MODIFIED:20260130T031308Z
UID:2359-1784851200-1785283199@post43baseball.com
SUMMARY:AA State Tournament - Gillette
DESCRIPTION:AA State Tournament in Gillette
URL:https://post43baseball.com/event/aa-state-tournament-gillette/
CATEGORIES:Away Game,Varsity
ATTACH;FMTTYPE=image/png:https://post43baseball.com/wp-content/uploads/2026/01/Varsity-Away-Game.png
END:VEVENT
BEGIN:VEVENT
DTSTART;TZID=America/Denver:20260725T130000
DTEND;TZID=America/Denver:20260725T180000
DTSTAMP:20260424T024649
CREATED:20260130T031449Z
LAST-MODIFIED:20260130T031449Z
UID:2361-1784984400-1785002400@post43baseball.com
SUMMARY:Varsity at Green River
DESCRIPTION:Tentative – Varsity at Green River for a double header. If either team qualifies for the AA State Tournament\, the game will be cancelled.
URL:https://post43baseball.com/event/varsity-at-green-river/
CATEGORIES:Away Game,Varsity
ATTACH;FMTTYPE=image/png:https://post43baseball.com/wp-content/uploads/2026/01/Varsity-Away-Game.png
END:VEVENT
BEGIN:VEVENT
DTSTART;VALUE=DATE:20260730
DTEND;VALUE=DATE:20260803
DTSTAMP:20260424T024649
CREATED:20260130T031644Z
LAST-MODIFIED:20260130T031644Z
UID:2363-1785369600-1785715199@post43baseball.com
SUMMARY:A State Tournament - Green River
DESCRIPTION:A State Tournament in Green River
URL:https://post43baseball.com/event/a-state-tournament-green-river/
LOCATION:Green River – Stratton Myers Park\, 1795 Bridger Dr\, Green River\, 82935\, United States
CATEGORIES:Away Game,Varsity
ATTACH;FMTTYPE=image/png:https://post43baseball.com/wp-content/uploads/2026/01/Varsity-Away-Game.png
END:VEVENT
END:VCALENDAR