BEGIN:VCALENDAR
VERSION:2.0
PRODID:-//Post 43 Baseball - ECPv6.15.20//NONSGML v1.0//EN
CALSCALE:GREGORIAN
METHOD:PUBLISH
X-WR-CALNAME:Post 43 Baseball
X-ORIGINAL-URL:https://post43baseball.com
X-WR-CALDESC:Events for Post 43 Baseball
REFRESH-INTERVAL;VALUE=DURATION:PT1H
X-Robots-Tag:noindex
X-PUBLISHED-TTL:PT1H
BEGIN:VTIMEZONE
TZID:America/Denver
BEGIN:DAYLIGHT
TZOFFSETFROM:-0700
TZOFFSETTO:-0600
TZNAME:MDT
DTSTART:20240310T090000
END:DAYLIGHT
BEGIN:STANDARD
TZOFFSETFROM:-0600
TZOFFSETTO:-0700
TZNAME:MST
DTSTART:20241103T080000
END:STANDARD
BEGIN:DAYLIGHT
TZOFFSETFROM:-0700
TZOFFSETTO:-0600
TZNAME:MDT
DTSTART:20250309T090000
END:DAYLIGHT
BEGIN:STANDARD
TZOFFSETFROM:-0600
TZOFFSETTO:-0700
TZNAME:MST
DTSTART:20251102T080000
END:STANDARD
BEGIN:DAYLIGHT
TZOFFSETFROM:-0700
TZOFFSETTO:-0600
TZNAME:MDT
DTSTART:20260308T090000
END:DAYLIGHT
BEGIN:STANDARD
TZOFFSETFROM:-0600
TZOFFSETTO:-0700
TZNAME:MST
DTSTART:20261101T080000
END:STANDARD
END:VTIMEZONE
BEGIN:VEVENT
DTSTART;VALUE=DATE:20250728
DTEND;VALUE=DATE:20250802
DTSTAMP:20260420T082024
CREATED:20250409T125008Z
LAST-MODIFIED:20250409T125306Z
UID:1414-1753660800-1754092799@post43baseball.com
SUMMARY:Wyoming American Legion Baseball AA State Tournament (Varsity)
DESCRIPTION:The 2025 Wyoming American Legion Baseball AA State Tournament is in Cheyenne at Powers Field from July 28 through August 1.
URL:https://post43baseball.com/event/wyoming-american-legion-baseball-aa-state-tournament-varsity/
LOCATION:Cheyenne – Powers Field\, 2522 Windmill Road\, Cheyenne\, WY\, 82001\, United States
CATEGORIES:Away Game,Varsity
ATTACH;FMTTYPE=image/jpeg:https://post43baseball.com/wp-content/uploads/2025/04/July-28-State-Varsity.jpg
END:VEVENT
BEGIN:VEVENT
DTSTART;TZID=America/Denver:20250715T150000
DTEND;TZID=America/Denver:20250715T190000
DTSTAMP:20260420T082024
CREATED:20250526T150201Z
LAST-MODIFIED:20250526T150201Z
UID:1932-1752591600-1752606000@post43baseball.com
SUMMARY:Bear Lake (Prep)
DESCRIPTION:
URL:https://post43baseball.com/event/bear-lake-prep/
CATEGORIES:Away Game,Prep C
ATTACH;FMTTYPE=image/jpeg:https://post43baseball.com/wp-content/uploads/2025/05/July-15-Bear-Lake.jpg
END:VEVENT
BEGIN:VEVENT
DTSTART;VALUE=DATE:20250711
DTEND;VALUE=DATE:20250714
DTSTAMP:20260420T082024
CREATED:20250309T235320Z
LAST-MODIFIED:20250409T124621Z
UID:1083-1752192000-1752451199@post43baseball.com
SUMMARY:Boise Wood Bat Tournament (Varsity)
DESCRIPTION:
URL:https://post43baseball.com/event/boise-wood-bat-tournament-varsity/
CATEGORIES:Away Game,Varsity
ATTACH;FMTTYPE=image/jpeg:https://post43baseball.com/wp-content/uploads/2025/04/July-11-13-Boise-Wood-Bat-Varsity.jpg
END:VEVENT
BEGIN:VEVENT
DTSTART;TZID=America/Denver:20250703T170000
DTEND;TZID=America/Denver:20250703T210000
DTSTAMP:20260420T082024
CREATED:20250309T235148Z
LAST-MODIFIED:20250409T124654Z
UID:1081-1751562000-1751576400@post43baseball.com
SUMMARY:Sheridan (Varsity)
DESCRIPTION:Double header starting at 5pm.
URL:https://post43baseball.com/event/sheridan/
CATEGORIES:Away Game,Varsity
ATTACH;FMTTYPE=image/jpeg:https://post43baseball.com/wp-content/uploads/2025/04/July-3-Sheridan-Varsity.jpg
END:VEVENT
BEGIN:VEVENT
DTSTART;TZID=America/Denver:20250629T120000
DTEND;TZID=America/Denver:20250629T170000
DTSTAMP:20260420T082024
CREATED:20250309T234819Z
LAST-MODIFIED:20250509T123259Z
UID:1077-1751198400-1751216400@post43baseball.com
SUMMARY:Cheyenne Hawks in Rock Springs (Varsity)
DESCRIPTION:Double header starting at 12pm.
URL:https://post43baseball.com/event/cheyenne-hawks-in-rock-springs-varsity/
LOCATION:Paul J. Wataha Recreational Complex – Rock Springs\, 2059 Clubhouse D\, Rock Springs\, WY\, 82901\, United States
CATEGORIES:Away Game,Varsity
ATTACH;FMTTYPE=image/jpeg:https://post43baseball.com/wp-content/uploads/2025/04/June-29-Cheyenne-Hawks-in-Rock-Springs-Varsity.jpg
END:VEVENT
BEGIN:VEVENT
DTSTART;TZID=America/Denver:20250627T150000
DTEND;TZID=America/Denver:20250627T190000
DTSTAMP:20260420T082024
CREATED:20250409T130728Z
LAST-MODIFIED:20250526T150504Z
UID:1434-1751036400-1751050800@post43baseball.com
SUMMARY:Lander (Prep)
DESCRIPTION:Doubleheader starting at 3pm.
URL:https://post43baseball.com/event/lander-prep/
CATEGORIES:Away Game,Prep C
ATTACH;FMTTYPE=image/jpeg:https://post43baseball.com/wp-content/uploads/2025/04/June-27-Lander-Prep-Friday.jpg
END:VEVENT
BEGIN:VEVENT
DTSTART;VALUE=DATE:20250626
DTEND;VALUE=DATE:20250629
DTSTAMP:20260420T082024
CREATED:20250309T234656Z
LAST-MODIFIED:20250409T131419Z
UID:1075-1750896000-1751155199@post43baseball.com
SUMMARY:Western Invitational Utah Tournament (Varsity)
DESCRIPTION:
URL:https://post43baseball.com/event/western-invitational-utah-tournament/
CATEGORIES:Away Game,Varsity
ATTACH;FMTTYPE=image/jpeg:https://post43baseball.com/wp-content/uploads/2025/04/June-26-28-Western-Invitational-Utah-Tournament-Varsity.jpg
END:VEVENT
BEGIN:VEVENT
DTSTART;TZID=America/Denver:20250624T100000
DTEND;TZID=America/Denver:20250624T140000
DTSTAMP:20260420T082024
CREATED:20250309T234550Z
LAST-MODIFIED:20250621T134400Z
UID:1073-1750759200-1750773600@post43baseball.com
SUMMARY:Gillette (Varsity)
DESCRIPTION:Double header starting at 10am
URL:https://post43baseball.com/event/gillette-varsity/
CATEGORIES:Away Game,Varsity
ATTACH;FMTTYPE=image/jpeg:https://post43baseball.com/wp-content/uploads/2025/03/June-24-Gillette-Varsity.jpg
END:VEVENT
BEGIN:VEVENT
DTSTART;VALUE=DATE:20250621
DTEND;VALUE=DATE:20250622
DTSTAMP:20260420T082024
CREATED:20250409T130220Z
LAST-MODIFIED:20250409T130422Z
UID:1427-1750464000-1750550399@post43baseball.com
SUMMARY:Cody (Prep)
DESCRIPTION:
URL:https://post43baseball.com/event/cody-prep/
LOCATION:Cody – Hugh Smith Park\, 131 19th St\, Cody\, WY\, 82414\, United States
CATEGORIES:Away Game,Prep C
ATTACH;FMTTYPE=image/jpeg:https://post43baseball.com/wp-content/uploads/2025/04/June-21-Cody-Prep.jpg
END:VEVENT
BEGIN:VEVENT
DTSTART;TZID=America/Denver:20250617T150000
DTEND;TZID=America/Denver:20250617T190000
DTSTAMP:20260420T082024
CREATED:20250409T034811Z
LAST-MODIFIED:20250617T145652Z
UID:1363-1750172400-1750186800@post43baseball.com
SUMMARY:Blackfoot (Varsity)
DESCRIPTION:Doubleheader 3pm and 5pm.
URL:https://post43baseball.com/event/blackfoot/
CATEGORIES:Away Game,Varsity
ATTACH;FMTTYPE=image/jpeg:https://post43baseball.com/wp-content/uploads/2025/04/June-17-Blackfoot-1.jpg
END:VEVENT
BEGIN:VEVENT
DTSTART;VALUE=DATE:20250613
DTEND;VALUE=DATE:20250614
DTSTAMP:20260420T082024
CREATED:20250409T034745Z
LAST-MODIFIED:20250428T153150Z
UID:1361-1749772800-1749859199@post43baseball.com
SUMMARY:Idaho Falls Tigers (Varsity)
DESCRIPTION:
URL:https://post43baseball.com/event/idaho-falls-tigers-varsity/
CATEGORIES:Away Game,Varsity
ATTACH;FMTTYPE=image/jpeg:https://post43baseball.com/wp-content/uploads/2025/04/June-13-IF-Tigers-Varsity-1.jpg
END:VEVENT
BEGIN:VEVENT
DTSTART;TZID=America/Denver:20250610T130000
DTEND;TZID=America/Denver:20250610T170000
DTSTAMP:20260420T082024
CREATED:20250409T035316Z
LAST-MODIFIED:20250526T150302Z
UID:1372-1749560400-1749574800@post43baseball.com
SUMMARY:Evanston (Prep)
DESCRIPTION:Doubleheader starting at 1pm.
URL:https://post43baseball.com/event/evanston/
CATEGORIES:Away Game,Prep C
ATTACH;FMTTYPE=image/jpeg:https://post43baseball.com/wp-content/uploads/2025/04/June-10-Evanston-Prep.jpg
END:VEVENT
BEGIN:VEVENT
DTSTART;VALUE=DATE:20250607
DTEND;VALUE=DATE:20250609
DTSTAMP:20260420T082024
CREATED:20250409T035240Z
LAST-MODIFIED:20250430T155255Z
UID:1370-1749254400-1749427199@post43baseball.com
SUMMARY:Green River Tournament (Prep)
DESCRIPTION:
URL:https://post43baseball.com/event/green-river-tournament-prep/
LOCATION:Green River – Stratton Myers Park\, 1795 Bridger Dr\, Green River\, 82935\, United States
CATEGORIES:Away Game,Prep C
ATTACH;FMTTYPE=image/jpeg:https://post43baseball.com/wp-content/uploads/2025/04/June-7-8-Green-River-Tournament.jpg
END:VEVENT
BEGIN:VEVENT
DTSTART;VALUE=DATE:20250607
DTEND;VALUE=DATE:20250609
DTSTAMP:20260420T082024
CREATED:20250309T223912Z
LAST-MODIFIED:20250409T132234Z
UID:1043-1749254400-1749427199@post43baseball.com
SUMMARY:Casper (Varsity)
DESCRIPTION:
URL:https://post43baseball.com/event/casper/
CATEGORIES:Away Game,Varsity
ATTACH;FMTTYPE=image/jpeg:https://post43baseball.com/wp-content/uploads/2025/04/June-7-8-Casper-Varsity.jpg
END:VEVENT
BEGIN:VEVENT
DTSTART;TZID=America/Denver:20250531T160000
DTEND;TZID=America/Denver:20250531T213000
DTSTAMP:20260420T082024
CREATED:20250409T035001Z
LAST-MODIFIED:20250531T035017Z
UID:1365-1748707200-1748727000@post43baseball.com
SUMMARY:Green River (Prep)
DESCRIPTION:Doubleheader starting at 4pm.
URL:https://post43baseball.com/event/green-river-prep/
LOCATION:Green River – Stratton Myers Park\, 1795 Bridger Dr\, Green River\, 82935\, United States
CATEGORIES:Away Game,Prep C
END:VEVENT
BEGIN:VEVENT
DTSTART;VALUE=DATE:20250523
DTEND;VALUE=DATE:20250527
DTSTAMP:20260420T082024
CREATED:20250305T034439Z
LAST-MODIFIED:20250519T012522Z
UID:934-1747958400-1748303999@post43baseball.com
SUMMARY:Kirby Drube Tournament in Gillette (Varsity)
DESCRIPTION:Saturday\, May 24th\n12pm – Sheridan vs Jackson\n2:30pm – Laramie vs Jackson \nSunday\, May 25th\n2:30pm – Jackson vs Powell\n7:30pm – Jackson vs Gillette \nMonday\, May 26th\n9:30am – Jackson vs Evanston
URL:https://post43baseball.com/event/kirby-drube-tournament-in-gillette/
LOCATION:Hladky Memorial Stadium – Gillette\, 917 E Longmont St\, Gillette\, WY\, 82716\, United States
CATEGORIES:Away Game,Varsity
ATTACH;FMTTYPE=image/jpeg:https://post43baseball.com/wp-content/uploads/2025/04/May-23-26-Kirby-Drube-Tournament-Varsity.jpg
END:VEVENT
BEGIN:VEVENT
DTSTART;VALUE=DATE:20250509
DTEND;VALUE=DATE:20250512
DTSTAMP:20260420T082024
CREATED:20250305T023751Z
LAST-MODIFIED:20250509T123222Z
UID:903-1746748800-1747007999@post43baseball.com
SUMMARY:Rock Springs Tournament (Varsity)
DESCRIPTION:Friday\, May 9th\n12pm – Rock Springs vs Jackson \nSaturday\, May 10th\n12pm – Jackson vs Laramie AA\n2:30pm – Green River vs Jackson \nSunday\, May 11th\n9:30am – Laramie A vs Jackson \nJackson Giants will leave the Breeze at 7am on Friday\, May 9th and return Sunday after the game.
URL:https://post43baseball.com/event/rock-springs-tournament-varsity/
LOCATION:Paul J. Wataha Recreational Complex – Rock Springs\, 2059 Clubhouse D\, Rock Springs\, WY\, 82901\, United States
CATEGORIES:Away Game,Varsity
ATTACH;FMTTYPE=image/jpeg:https://post43baseball.com/wp-content/uploads/2025/04/May-9-11-Varsity-Tournament.jpg
END:VEVENT
END:VCALENDAR