BEGIN:VCALENDAR
VERSION:2.0
PRODID:-//Post 43 Baseball - ECPv6.15.20//NONSGML v1.0//EN
CALSCALE:GREGORIAN
METHOD:PUBLISH
X-WR-CALNAME:Post 43 Baseball
X-ORIGINAL-URL:https://post43baseball.com
X-WR-CALDESC:Events for Post 43 Baseball
REFRESH-INTERVAL;VALUE=DURATION:PT1H
X-Robots-Tag:noindex
X-PUBLISHED-TTL:PT1H
BEGIN:VTIMEZONE
TZID:America/Denver
BEGIN:DAYLIGHT
TZOFFSETFROM:-0700
TZOFFSETTO:-0600
TZNAME:MDT
DTSTART:20250309T090000
END:DAYLIGHT
BEGIN:STANDARD
TZOFFSETFROM:-0600
TZOFFSETTO:-0700
TZNAME:MST
DTSTART:20251102T080000
END:STANDARD
BEGIN:DAYLIGHT
TZOFFSETFROM:-0700
TZOFFSETTO:-0600
TZNAME:MDT
DTSTART:20260308T090000
END:DAYLIGHT
BEGIN:STANDARD
TZOFFSETFROM:-0600
TZOFFSETTO:-0700
TZNAME:MST
DTSTART:20261101T080000
END:STANDARD
BEGIN:DAYLIGHT
TZOFFSETFROM:-0700
TZOFFSETTO:-0600
TZNAME:MDT
DTSTART:20270314T090000
END:DAYLIGHT
BEGIN:STANDARD
TZOFFSETFROM:-0600
TZOFFSETTO:-0700
TZNAME:MST
DTSTART:20271107T080000
END:STANDARD
END:VTIMEZONE
BEGIN:VEVENT
DTSTART;VALUE=DATE:20260730
DTEND;VALUE=DATE:20260803
DTSTAMP:20260422T063328
CREATED:20260130T031644Z
LAST-MODIFIED:20260130T031644Z
UID:2363-1785369600-1785715199@post43baseball.com
SUMMARY:A State Tournament - Green River
DESCRIPTION:A State Tournament in Green River
URL:https://post43baseball.com/event/a-state-tournament-green-river/
LOCATION:Green River – Stratton Myers Park\, 1795 Bridger Dr\, Green River\, 82935\, United States
CATEGORIES:Away Game,Varsity
ATTACH;FMTTYPE=image/png:https://post43baseball.com/wp-content/uploads/2026/01/Varsity-Away-Game.png
END:VEVENT
END:VCALENDAR